BEGIN:VCALENDAR
VERSION:2.0
BEGIN:VEVENT
URL:https://1rodina.cz/index.php/sit-1rodina/udalosti/viewevent/100-jarni-rovnodenost-prichazeji-rovnovazne-energie-a-vladne-vnitrni-klid 
DTSTART:20240317T000000
DTEND:20240320T001500
SUMMARY:JARNÍ ROVNODENOST - Přicházejí rovnovážné energie a vládne vnitřní klid
DESCRIPTION:Letos období od 17. března do 20. března
LOCATION:Planeta Země
END:VEVENT
END:VCALENDAR