BEGIN:VCALENDAR
VERSION:2.0
BEGIN:VEVENT
URL:https://1rodina.cz/index.php/sit-1rodina/udalosti/viewevent/101-konec-vrazdeni 
DTSTART:20240318T000000
DTEND:20240601T001500
SUMMARY:KONEC VRAŽDĚNÍ
DESCRIPTION:Rozesílám pozvánky ve znění: Dovoluji si Vás pozvat na mezinárodní akci proti vraždění v době konání úplně malinkatého samitku "Obranné" aliance z usa + plakát
LOCATION:Česko 
END:VEVENT
END:VCALENDAR