BEGIN:VCALENDAR
VERSION:2.0
BEGIN:VEVENT
URL:https://1rodina.cz/index.php/sit-1rodina/udalosti/viewevent/102-vystoupime-z-eu-rika-judr 
DTSTART:20240321T000000
DTEND:20240323T000000
SUMMARY:VYSTOUPÍME Z EU říká JUDr. 
DESCRIPTION:Přátelé ten kdo hlásal, že jsme pevně zakotveni ... NYNÍ hlásá, že vystoupíme z EU tak jako to chce Maďarsko, Slovensko a Srbsko a chce se tak podle mne zavděčit přívržencům hnutí ČR na 1. místě A PŘI TOM NEVÍ ŽE SRBSKO V EU VÚBEC NENÍ
LOCATION:Česko
END:VEVENT
END:VCALENDAR