BEGIN:VCALENDAR
VERSION:2.0
BEGIN:VEVENT
URL:https://1rodina.cz/index.php/sit-1rodina/udalosti/viewevent/103-je-to-bida-jak-sam-rika 
DTSTART:20240323T000000
DTEND:20240324T000000
SUMMARY:JE TO BÍDA JAK SÁM ŘÍKÁ
DESCRIPTION:JUDr jaksi vyhořel
LOCATION:Česká republika 
END:VEVENT
END:VCALENDAR