BEGIN:VCALENDAR
VERSION:2.0
BEGIN:VEVENT
URL:https://1rodina.cz/index.php/sit-1rodina/udalosti/viewevent/104-posta-funguje-posta-funguje-posta-funguje 
DTSTART:20241231T000000
DTEND:20241231T001500
SUMMARY:POŠTA FUNGUJE, POŠTA FUNGUJE, POŠTA FUNGUJE.
DESCRIPTION:Přibyla ikonka s obálkou, přesněji řečeno je obnovaea 
LOCATION:Česko
END:VEVENT
END:VCALENDAR