BEGIN:VCALENDAR
VERSION:2.0
BEGIN:VEVENT
URL:https://1rodina.cz/index.php/sit-1rodina/udalosti/viewevent/105-clensky-prispevek-je-500-czk-za-cely-rok 
DTSTART:20240325T000000
DTEND:20241231T001500
SUMMARY:ČLENSKÝ PŘÍSPĚVEK je 500,- CZK ZA CELÝ ROK . 
DESCRIPTION:JE TO OVĚŘENÁ ještě horká zpráva od administrátora. 
LOCATION:Česká republika 
END:VEVENT
END:VCALENDAR