BEGIN:VCALENDAR
VERSION:2.0
BEGIN:VEVENT
URL:https://1rodina.cz/index.php/sit-1rodina/udalosti/viewevent/106-338-hlasujicich-jsem-bez-papiru-a-kalkulacky-napocital 
DTSTART:20240325T000000
DTEND:20241231T001500
SUMMARY:338 HLASUJÍCÍCH jsem bez papíru a kalkulačky napočítal
DESCRIPTION:MÁM RADOST ŽE  ČLENÚ PŘIBÝVÁ
LOCATION:Česká republika 
END:VEVENT
END:VCALENDAR