BEGIN:VCALENDAR
VERSION:2.0
BEGIN:VEVENT
URL:https://1rodina.cz/index.php/sit-1rodina/udalosti/viewevent/107-banky-odmitaji-uvery-na-zbrojeni 
DTSTART:20240326T000000
DTEND:20240530T001500
SUMMARY:BANKY ODMÍTAJÍ ÚVĚRY NA ZBROJENÍ
DESCRIPTION:Přátelé něco je ve vzduchu. Ti co se přes banky snaží ovládat lidstvo považují investice do zbrojení za rizikovou investici.
LOCATION:Svět
END:VEVENT
END:VCALENDAR