BEGIN:VCALENDAR
VERSION:2.0
BEGIN:VEVENT
URL:https://1rodina.cz/index.php/sit-1rodina/udalosti/viewevent/109-kdo-to-vi-odpovi-je-zeme-ktera-je-98-casu-trvani-ve-valce 
DTSTART:20240327T000000
DTEND:20241231T001500
SUMMARY:KDO TO VÍ ODPOVÍ : Je země, která je 98% času trvání VE VÁLCE
DESCRIPTION:Existuje 247 let a válčila a válčí 225 let. HÁDEJTE 
LOCATION:Planeta Země
END:VEVENT
END:VCALENDAR