BEGIN:VCALENDAR
VERSION:2.0
BEGIN:VEVENT
URL:https://1rodina.cz/index.php/sit-1rodina/udalosti/viewevent/11-milion-proti-vlade-podzim-23 
DTSTART:20230906T180000
DTEND:20230906T181500
SUMMARY:Milion proti vládě! - PODZIM ´23
DESCRIPTION:<span>V rámci akce<strong> Milion proti vládě! - PODZIM ´23</strong> budeme pořádat pochody. Nečekejte, že to někdo zorganizuje a udělá za nás. Přihlašte se sami aktivně na sociální síť www.1Rodina.cz a domluvte se ostatními, kde budete pochodovat. K pochodu stačí jeden člověk s transparentem. Nebojte se, i když budete sami ve Vaší obci, v dalších obcích půjdou další lidé. Půjdeme každý týden ve středu od 18:00 hodin, alespoň 20 minut. Začneme první středu po prázdninách. Ve státní svátky 28. září a 28. října a 17. listopadu uděláme rozšířený, doprovodný program ve větších městech.</span><div><br /><span></span><div></div><div>Z každé obce budeme sbírat počet lidí, kteří se pochodu zůčastnili a každý čtvrtek večer zveřejníme, kolik lidí šlo v České republice daný týden pochod <strong>Milion proti vládě! - PODZIM 202</strong>3. Vy se zatím můžete sázet mezi sebou, kdy napočítáme poprvé milion lidí v ulicích :-) </div></div><div><br /></div><div>Účast je dobrovolná a jediným společným cílem těchto akcí je vyjádřit odpor vůči současné vládě České republiky. Vlajky a symboly jsou povolené, protože bojujeme za svobodu. Jsou tedy povolené i vlajky všech politických stran a hnutí, které se chtějí účastnit a nikdo nemá právo nikomu žádné vlajky zakazovat. Zrovna tak jsou povolené i vlajky státní a to všechny, protože v České republice žijí občané různých zemí. 
</div><div><br /></div><div>Buďme prosím tolerentní a pojďme se spojit proti vládě. Hnutí Plán Česká republika na 1. místě! má jasně vymezený politický program, ale pochody<b> Milion proti vládě! - PODZIM 2023</b> jsou mnohem širší názorovou platformou. Těchto pochodů se můžou účastnit i lidé, kteří nesouhlasí s některými částmi Plánu Česká republika na 1. místě! a mají jiný názor na budoucnost České republiky. 
</div><div><br /></div><div>Buďme tolerentní a respektujme svobodu názoru. Teď se na ulici spojme proti politickému teroru a ve volbách nechť následně vyhrají nejlepší politické programy!
</div><div><b>Freedom is not for free! - Svoboda není zdarma! - Power to the people! - Moc do rukou lidí!</b></div><div>
</div><div>
</div><div>
</div>
LOCATION:V každé obci
END:VEVENT
END:VCALENDAR