BEGIN:VCALENDAR
VERSION:2.0
BEGIN:VEVENT
URL:https://1rodina.cz/index.php/sit-1rodina/udalosti/viewevent/110-ty-demonstace-a-dopisy-se-vyplatily 
DTSTART:20240401T000000
DTEND:20241231T001500
SUMMARY:TY DEMONSTACE A DOPISY SE VYPLATILY 
DESCRIPTION:Cítím velkou úlevu, to že si vzpomněl na naší zemičku pokládám za výsledek  SPOLEČNÉHO úsilí.  
LOCATION:Evropa a Asie
END:VEVENT
END:VCALENDAR