BEGIN:VCALENDAR
VERSION:2.0
BEGIN:VEVENT
URL:https://1rodina.cz/index.php/sit-1rodina/udalosti/viewevent/111-plan-na-zotroceni-ztroskotal 
DTSTART:20240403T000000
DTEND:20241231T001500
SUMMARY: PLÁN NA ZOTROČENÍ  ZTROSKOTAL
DESCRIPTION:Přátelé před cca 60 lety se v Kanadě dohodli bankéři a další jak postupně v průběhu 50 let potichoučku zotročit, zdegradovat a zneplodnit lidstvo. To co prožíváme jsou střepiny tohoto zrůdného plánu a to co mělo býti utajeno NYNÍ VYCHÁZÍ NA POVRCH a tím je  plán v koncích a rozum vítězí na zlem. 
LOCATION:Svět
END:VEVENT
END:VCALENDAR