BEGIN:VCALENDAR
VERSION:2.0
BEGIN:VEVENT
URL:https://1rodina.cz/index.php/sit-1rodina/udalosti/viewevent/112-konce-proradnych-ceskych-panu 
DTSTART:20240406T000000
DTEND:20241231T001500
SUMMARY:KONCE PRORADNÝCH ČESKÝCH PÁNÚ
DESCRIPTION:LEGENDA PRAVÍ, že Adržbašskoteplcké skalní město tvoří zkamenělí čeští páni, kteří proradně za úplatu vpustili de Čech cizí vojska
LOCATION:Česká republika 
END:VEVENT
END:VCALENDAR