BEGIN:VCALENDAR
VERSION:2.0
BEGIN:VEVENT
URL:https://1rodina.cz/index.php/sit-1rodina/udalosti/viewevent/113-podnecovani-utocne-valky-407-trestni-zakon-c-40-2009-vzpz 
DTSTART:20240409T000000
DTEND:20241231T001500
SUMMARY:PODNĚCOVÁNÍ ÚTOČNÉ VÁLKY § 407 TRESTNÍ ZÁKON č. 40/2009 vzpz. 
DESCRIPTION:<span>Kdo veřejně podněcuje k útočné válce na které se má podílet Česká republika, takovou válku PROPAGUJE NEBO VÁLEČNOU PROPAGANDU JINAK PODNĚCUJE bude potrestán odnětím svobody až na pět let.  § 406 z.č. 40/2009 Sb. vzpz KDO PŘOPRAVUJE ÚTOČNOU VÁLKU NA KTERÉ SE MÁ PODÍLET Česká republika a tím přivodí České republice NEBEZPEČÍ VÁLKY bude potrestán odnětím svobody na 20 let nebo VYJÍMEČNÝM TRESTEM. - IMUNITA JE JENOM DOČASU!!</span><div>Jak se říkalo za komoušů " BOJTE SE BOHA SOUDRUZI"  </div>
LOCATION:Česká republika 
END:VEVENT
END:VCALENDAR