BEGIN:VCALENDAR
VERSION:2.0
BEGIN:VEVENT
URL:https://1rodina.cz/index.php/sit-1rodina/udalosti/viewevent/114-dnes-jsem-zadal-vylepovani-plkatu-na-mirovou-akci-1-6-2024 
DTSTART:20240601T000000
DTEND:20240601T001500
SUMMARY:DNES JSEM  ZADAL VYLEPOVÁNÍ PLKÁTÚ NA MÍROVOU AKCI 1.6.2024
DESCRIPTION:Ve městě je 15 vylepovacích míst, zajišťují to technické služby a stojí to 250,- CZK na týden.
LOCATION:Česká republika 
END:VEVENT
END:VCALENDAR