BEGIN:VCALENDAR
VERSION:2.0
BEGIN:VEVENT
URL:https://1rodina.cz/index.php/sit-1rodina/udalosti/viewevent/115-zpet-na-rodine 
DTSTART:20240430T000000
DTEND:20240430T001500
SUMMARY:ZPĚT NA RODINĚ
DESCRIPTION:Přátelé dnes jsem se na popud Ivči proklikal do rodiny. Zobrazovaly se mi stále plakáty a tak jsem žil v domnění, žer propagace Mírové akce má prioritu.
LOCATION:Jaroměř
END:VEVENT
END:VCALENDAR