BEGIN:VCALENDAR
VERSION:2.0
BEGIN:VEVENT
URL:https://1rodina.cz/index.php/sit-1rodina/udalosti/viewevent/116-magicka-noc 
DTSTART:20240501T000000
DTEND:20240501T001500
SUMMARY:MAGICKÁ NOC
DESCRIPTION:Má své kouzlo a je to dobrý důvod radovat se a navíc počasí přeje.
LOCATION:Svět
END:VEVENT
END:VCALENDAR