BEGIN:VCALENDAR
VERSION:2.0
BEGIN:VEVENT
URL:https://1rodina.cz/index.php/sit-1rodina/udalosti/viewevent/117-magicka-noc 
DTSTART:20240430T000000
DTEND:20240501T001500
SUMMARY:MAGICKÁ NOC
DESCRIPTION:Důvod k oslavám a navíc to počasí
LOCATION:svět
END:VEVENT
END:VCALENDAR