BEGIN:VCALENDAR
VERSION:2.0
BEGIN:VEVENT
URL:https://1rodina.cz/index.php/sit-1rodina/udalosti/viewevent/118-pratele-to-ze-ct-oficialnie-pozvala-nase-hnuti-ceska-republika-na-1-miste-do-televize 
DTSTART:20240523T000000
DTEND:20240531T001500
SUMMARY:PŘÁTELÉ, To že ČT  OFICIÁLNÍĚ POZVALA  "NAŠE" Hnutí ČESKÁ Republika na 1. místě do TELEVIZE  
DESCRIPTION:
LOCATION:Česká republika
END:VEVENT
END:VCALENDAR