BEGIN:VCALENDAR
VERSION:2.0
BEGIN:VEVENT
URL:https://1rodina.cz/index.php/sit-1rodina/udalosti/viewevent/119-silene-krasna-princezna 
DTSTART:20240501T000000
DTEND:20240502T000000
SUMMARY:ŠÍLEŇE KRÁSNÁ PRINCEZNA
DESCRIPTION:Sázel a smál jak všichni pochodují v průvodu. Teď jsem si sedl a "dávají" tu pohádku. Miluju to moudrost, kterou dokážeme vyjádřit .NA Čechy prostě NIKDO NEMÁ.
LOCATION:SVĚT
END:VEVENT
END:VCALENDAR