BEGIN:VCALENDAR
VERSION:2.0
BEGIN:VEVENT
URL:https://1rodina.cz/index.php/sit-1rodina/udalosti/viewevent/120-plakaty-do-eu-a2-doplnneni-volte-c-11 
DTSTART:20240508T000000
DTEND:20240508T001500
SUMMARY:PLAKÁTY DO EU, A2- DOPLNNĚNÍ -VOLTE č. 11
DESCRIPTION:Přátelé dal jsem vylepit plakáty do voleb do EU a všiml jsem si a doplnil jsem červeným fixem nahoru doprostřed. VO"LTE č. 11 Je to sosdt podstatvá věc, proto to píšu všem.
LOCATION:Česká republika
END:VEVENT
END:VCALENDAR