BEGIN:VCALENDAR
VERSION:2.0
BEGIN:VEVENT
URL:https://1rodina.cz/index.php/sit-1rodina/udalosti/viewevent/121-po-navsteve-spejbla-za-morem-u-cia-skoncil-sef-rozvedky-ceske-republiky 
DTSTART:20240510T000000
DTEND:20240531T001500
SUMMARY:PO NÁVŠTĚVĚ SPEJBLA  za mořem u CIA SKONČIL ŠÉF ROZVĚDKY  ČESKÉ REPUBLIKY
DESCRIPTION:BEZ KOMENTÁŘE
LOCATION:SVĚT
END:VEVENT
END:VCALENDAR