BEGIN:VCALENDAR
VERSION:2.0
BEGIN:VEVENT
URL:https://1rodina.cz/index.php/sit-1rodina/udalosti/viewevent/122-vylepeni-predvolebnich-plakatu-zdarma 
DTSTART:20240511T000000
DTEND:20240602T001500
SUMMARY:VYLEPENÍ PŘEDVOLEBNÍCH PLAKÁTÚ ZDARMA
DESCRIPTION:Přátelé dnes mi pracovnice Technických služeb přivezla peníze za vylepování s tím, že jsou předvolební a TY JSOU ZDARMA. Žasnu. No už když jsem je tam přivezl tak se paní usmívala, protože si všichni četli ty minulé SETKÁNÍ CHCIMÍRÚ. Ve společnosti se karta obrací je to cítit na každém kroku.
LOCATION:Jaroměř
END:VEVENT
END:VCALENDAR