BEGIN:VCALENDAR
VERSION:2.0
BEGIN:VEVENT
URL:https://1rodina.cz/index.php/sit-1rodina/udalosti/viewevent/123-mirova-holubice 
DTSTART:20240530T000000
DTEND:20240601T001500
SUMMARY:MÍROVÁ HOLUBICE
DESCRIPTION:Přátelé, jak pozvat paní s holubicí na 1.6.2024. Já na ni kontakt nemám . Co třeba Vašek - Rebel , nebo kdo má kontakt na organizátory akce. Pomozte ji zkontaktovat.
LOCATION:Praha
END:VEVENT
END:VCALENDAR