BEGIN:VCALENDAR
VERSION:2.0
BEGIN:VEVENT
URL:https://1rodina.cz/index.php/sit-1rodina/udalosti/viewevent/124-blanicti-rytiri 
DTSTART:20240516T000000
DTEND:20240602T001500
SUMMARY:BLANIČTÍ RYTÍŘI
DESCRIPTION:Přátelé zachytil jsem zajímavou myšlenku od účastníků vlasteneckého pochodu na horu Blaník s ideou připomenutí bájné pomoci hrdinů našeho národa a čekajících na okamžik kdy je třeba národu pomoci v nesnázích. Ta myšlenka zní. MY JSME TI BÁJNÍ TYTÍŘI A NYNÍ NASTAL TEN SPRÁVNÝ ČAS UKÁZAT SVOU ODVAHU NAPŘÍKLAD VE VOLBÁCH.    AŤ ŽIJE A SÍLÍ RODINA ČR NA 1. MÍSTĚ
LOCATION:Česká republika
END:VEVENT
END:VCALENDAR