BEGIN:VCALENDAR
VERSION:2.0
BEGIN:VEVENT
URL:https://1rodina.cz/index.php/sit-1rodina/udalosti/viewevent/125-vylep-volebnich-plakatu-do-evropskeho-parlamentu 
DTSTART:20240516T000000
DTEND:20240608T001500
SUMMARY:VÝLEP VOLEBNÍCH PLAKÁTÚ DO EVROPSKÉHO PARLAMENTU
DESCRIPTION:Přátelé výlep volebních plakátů do Europarlamentu JE BEZPLATNÝ na základě ustanovení § 59 odst. 4. z.č. 62/2003 Sb. vzpz.

LOCATION:Česká republika
END:VEVENT
END:VCALENDAR