BEGIN:VCALENDAR
VERSION:2.0
BEGIN:VEVENT
URL:https://1rodina.cz/index.php/sit-1rodina/udalosti/viewevent/126-nemcina-rovnocenna-s-cestinou-ve-skolkach-skolach-na-uradech-a-v-kulture 
DTSTART:20240516T000000
DTEND:20240608T001500
SUMMARY:němčina rovnocenná s Češtinou ve školkách, školách na úřadech a v kultuře
DESCRIPTION:Přátelé pětidemolice v tichosti vydala v roce 2023 nařízení o zavádění německého jazyka . Je  to na Bureš TV ytoube v délce 8 minut pěkně to zapadá do skupování pozemků němci.
LOCATION:Česká republika
END:VEVENT
END:VCALENDAR