BEGIN:VCALENDAR
VERSION:2.0
BEGIN:VEVENT
URL:https://1rodina.cz/index.php/sit-1rodina/udalosti/viewevent/127-vstavat-a-cvicit 
DTSTART:20240518T000000
DTEND:20240519T000000
SUMMARY:VSTÁVAT A CVIČIT
DESCRIPTION:A PROČ, PROTOŽE JE RÁNO
LOCATION:Česká republika
END:VEVENT
END:VCALENDAR