BEGIN:VCALENDAR
VERSION:2.0
BEGIN:VEVENT
URL:https://1rodina.cz/index.php/sit-1rodina/udalosti/viewevent/128-atentat 
DTSTART:20240518T000000
DTEND:20240602T000000
SUMMARY:ATENTÁT
DESCRIPTION:Přátelé, z videa je jasné a okomentoval to i pplk. Kratochvíl, že akce je organizovaná ( hlouček kolem střelce se při střelbě  choval tak, že to předpokládal a navíc se i postavili na zábrany aby  ztížil ochrance zpacifikování střelce). ALE AKCE MOHLA MÍT DALEKOSÁHLÉ NÁSLEDKY. V případě, že by země přišla o premiéra dosluhující carevna by jmenovala jinou vládu a a to byl zoufalý pokus o volnou cestu na Sibiř. AŤ ŽIJE ROBERT FICO.
LOCATION:Svět
END:VEVENT
END:VCALENDAR