BEGIN:VCALENDAR
VERSION:2.0
BEGIN:VEVENT
URL:https://1rodina.cz/index.php/sit-1rodina/udalosti/viewevent/129-posledni-mohykan 
DTSTART:20240519T000000
DTEND:20240601T001500
SUMMARY:POSLEDNÍ MOHYKÁN
DESCRIPTION:Přátelé zhlédnul jsem závět komedie s panem Marvanem a smíchy jsem brečel. No a pak běžela reklama kde strašili s rakovinou, zrovna Ti co smetli ze stolu projekt na největší kliniku na léčbu rakoviny. Ve skutečnosti ta rakovina jsou Ti co šíří strach a platí ŽE SMÍCH JE NEJLEPŠÍ LÉK NA VŠECHNO.  
LOCATION:SVĚT
END:VEVENT
END:VCALENDAR