BEGIN:VCALENDAR
VERSION:2.0
BEGIN:VEVENT
URL:https://1rodina.cz/index.php/sit-1rodina/udalosti/viewevent/13-schvalovani-k-vavesovani-statni-vlajky 
DTSTART:20230807T080000
DTEND:20230807T081500
SUMMARY:SCHVALOVÁNI k VAVĚŠOVÁNÍ STÁTNÍ VLAJKY
DESCRIPTION:Pokračování : Dvakrát vzešel návrh na sejmutí vlajek a rada to zatím neschválila. V září 2023 proběhne zasedání rady ve které má být celkem sedm členů ale v současné době jeden člen odstoupil a ke schválení změny je potřeba čtyři hlasů NIKDE SE NEPÍŠE O VYVĚŠOVÁNÍ JINÝCH VLAJEK NA STÁTNÍ BUDOVY BEZ SOUČASNÉHO VYVĚŠENÍ NAŠÍ STÁTNÍ VLAJKY. Pěkný den Ivoš
LOCATION:Královéhradecký kraj
END:VEVENT
END:VCALENDAR