BEGIN:VCALENDAR
VERSION:2.0
BEGIN:VEVENT
URL:https://1rodina.cz/index.php/sit-1rodina/udalosti/viewevent/130-mirova-akce-jeste-12x-se-vyspime-a-pak-to-prijde 
DTSTART:20240520T000000
DTEND:20240601T000000
SUMMARY:MÍROVÁ AKCE. Ještě 12x se vyspíme a pak to přijde.
DESCRIPTION:Přátelé opravdu se těším jak malé děcko. Cítím že je to velká příležitost až do morku kostí. Máte to taky tak. 
LOCATION:SVĚT
END:VEVENT
END:VCALENDAR