BEGIN:VCALENDAR
VERSION:2.0
BEGIN:VEVENT
URL:https://1rodina.cz/index.php/sit-1rodina/udalosti/viewevent/131-a-jeste-jednu-robert-fico-je-stabilizovany-a-komunikuje 
DTSTART:20240521T000000
DTEND:20241231T001500
SUMMARY:A JEŠTĚ JEDNU. ROBERT FICO JE STABILIZOVANÝ A KOMUNIKUJE
DESCRIPTION:Přátelé to je vítězství NAD ZLEM a nenávistí. Mám velkou radost
LOCATION:Slovensko a Česká republika
END:VEVENT
END:VCALENDAR