BEGIN:VCALENDAR
VERSION:2.0
BEGIN:VEVENT
URL:https://1rodina.cz/index.php/sit-1rodina/udalosti/viewevent/132-lada-v-ct-24-to-se-oslavi 
DTSTART:20240521T000000
DTEND:20240601T001500
SUMMARY:LÁĎA V ČT 24  TO SE OSLAVÍ 
DESCRIPTION:Přátelé moc se mi líbilo jak poděkoval za pozvání když poté co žádal o vystoupení v ČT za podpory 40 000 lidí se zamkli a schovali. Je to radikální posun v kolektivním  vědomí 
LOCATION:Svět
END:VEVENT
END:VCALENDAR