BEGIN:VCALENDAR
VERSION:2.0
BEGIN:VEVENT
URL:https://1rodina.cz/index.php/sit-1rodina/udalosti/viewevent/133-staci-drzet-sik-drzet-pozice-stat-si-na-svem 
DTSTART:20240522T000000
DTEND:20240601T001500
SUMMARY:STAČÍ DRŽET ŠIK DRŽET POZICE, STÁT SI NA SVÉM, 
DESCRIPTION:To je myšlenka Soňi Pekové, podle ní umírající kobyla kope kolem sebe a v křeči se s sebou snaží strhnout ostatní. Z toho mi plyne, že nyní je třeba držet základní myšlenku MÍR  a až se zhmotní pokračovat s  daňovou změnou, finanční a potravinovou soběstačností  a tak dále jak to máme v našem programu. To jen tak polemizuju a Soňa mne v tom utvrdila. 
LOCATION:SVĚT
END:VEVENT
END:VCALENDAR