BEGIN:VCALENDAR
VERSION:2.0
BEGIN:VEVENT
URL:https://1rodina.cz/index.php/sit-1rodina/udalosti/viewevent/134-proradna-cirkev 
DTSTART:20240523T000000
DTEND:20240630T001500
SUMMARY:PRORADNÁ CÍRKEV
DESCRIPTION:Přátelé, to že "byly odvezeny" Svatováclavský meč a korunovační kříž MÁ NA SVĚDOMÍ PRORADNÁ CÍRKEV, právě v kostele byly tyto relikvie uloženy. Nevadí, zažili jsme už od ní velké krádeže v podobě hromadění majetků od umírajících až po restituce i s touto podlostí si poradíme. Ty předměty mají fyzickou podobu i duchovní rozměr a nestačí je jen držet v ruce a to ti tydýtkové netuší. Na tomto se v přímém přenosu ukazuje kdo je kdo a komu můžeme věřit.
LOCATION:SVĚT
END:VEVENT
END:VCALENDAR