BEGIN:VCALENDAR
VERSION:2.0
BEGIN:VEVENT
URL:https://1rodina.cz/index.php/sit-1rodina/udalosti/viewevent/135-po-tomhle-hlasovani-uz-budou-zasedat-s-plenami 
DTSTART:20240523T000000
DTEND:20240601T000000
SUMMARY:PO TOMHLE HLASOVÁNÍ UŽ BUDOU ZASEDAT S PLENAMI
DESCRIPTION:Přátelé tímhle si zadělali na pořádnou ostudu a nadělali si při hlasování do kalhot. V rámci ochrany životního prostředí budou od teď zasedat jedině v PEMPERS aby neznečišťovali státní budovu.
LOCATION:Praha
END:VEVENT
END:VCALENDAR