BEGIN:VCALENDAR
VERSION:2.0
BEGIN:VEVENT
URL:https://1rodina.cz/index.php/sit-1rodina/udalosti/viewevent/136-mame-naslapnuto 
DTSTART:20240525T000000
DTEND:20240602T001500
SUMMARY:MÁME NAŠLÁPNUTO
DESCRIPTION:<span>Přátelé z rozhovorů v televizi a rozhlase cítím jak ústy Láďi sílí plám Česká republika na 1. místě. spoludiskutující přitakávají Láďovi, v podstatě "náš plán" berou všechna jiná politická uskupení  hlásají "naše" MAŠLENKY potažmo myšlenky Láďi Vrabela a KARAVANA TÁHNE DÁL a ti křiklouni co chtěli uspořádat honem, honem OSTROUHALI.</span><div>Ta myšlenka uspořádat Mírová setkání v době konání zločineckých organizací JE  GENIÁLNÍ. Už es těším.</div>
LOCATION:SVĚT
END:VEVENT
END:VCALENDAR