BEGIN:VCALENDAR
VERSION:2.0
BEGIN:VEVENT
URL:https://1rodina.cz/index.php/sit-1rodina/udalosti/viewevent/137-co-je-ucelem-valky 
DTSTART:20240526T000000
DTEND:20240601T001500
SUMMARY:CO JE ÚČELEM VÁLKY
DESCRIPTION:<span>Přátelé motivací je buď dobytí cizího území nebo BOJ O PŘEŽITÍ a naskýtá se otázka ohrožuje někdo ameriku, Rusko, Čínu, Indii, německo, anglii, kanadu, Českou republiku, francii, Maďarsko, polsko, rumunsko, Bělorusko, litvu, lotyšsko, finsko, švédsko, norsko a Ruské lidi žijící na dnešním území takzvané ukrajiny. OHROŽUJE NĚKDO KOLONIÁLNÍ ZEMĚ KDYŽ SE OSAMOSTATŇUJÍ KOLONIE?  A JSME U MOTIVU, když se hroutí kolonialismus tak s sebou chtějí stáhnout ostatní. Ten kdo neměl nikdy žádné kolonie si žije na svém území a ti co jim ubývá zdrojů z kolonií kopou kolem sebe ve smrtelné křeči </span><div><br /></div>
LOCATION:Svět
END:VEVENT
END:VCALENDAR