BEGIN:VCALENDAR
VERSION:2.0
BEGIN:VEVENT
URL:https://1rodina.cz/index.php/sit-1rodina/udalosti/viewevent/138-na-1-6-2024-ve-13-hodin-nam-numerologie-preje-c-1 
DTSTART:20240601T100000
DTEND:20240601T101500
SUMMARY:NA 1.6.2024 ve 13. hodin NÁM NUMEROLOGIE PŘEJE - č. 1.
DESCRIPTION:Vyjadřuje tvořivost, ctižádost, hrdost a soběstačnost.
LOCATION:SVĚT
END:VEVENT
END:VCALENDAR