BEGIN:VCALENDAR
VERSION:2.0
BEGIN:VEVENT
URL:https://1rodina.cz/index.php/sit-1rodina/udalosti/viewevent/139-predpoved-pocasi-takticky-tah 
DTSTART:20240601T000000
DTEND:20240601T001500
SUMMARY:PŘEDPOVĚĎ POČASÍ - Taktický tah
DESCRIPTION:Přátelé zaujala mne dnes předpověď počasí když zobrazili velký déšť na sobotu 1.6.2024 . Blesklo mi hlavou, že Láďa  predikoval pěkné počasí. Mrknul jsem na jinou předpověď a tam od 9.00 hodin žádný déšť . Manželka mne upozornila, že u nějaké minulé akce predikovali špatné počasí a bylo hezky. ZAVÁNÍ TO MRNOU  MANIIPULACÍ.  NO UVIDÍME UVIDÍME POVÍDÁ SLEPÝ HLUCHÝMU. 
LOCATION:Praha
END:VEVENT
END:VCALENDAR