BEGIN:VCALENDAR
VERSION:2.0
BEGIN:VEVENT
URL:https://1rodina.cz/index.php/sit-1rodina/udalosti/viewevent/14-vyvesovani-vlsjek 
DTSTART:20230809T000000
DTEND:20230809T001500
SUMMARY:VYVĚŠOVÁNÍ VLSJEK
DESCRIPTION:<span>V dis</span><div>V diskusi  je pěkný přehled o poslancích a způsob komunikace s nimi. Já jsem při návštěvě magistrátu zjistil, od úředníka, který k nám chodil na pomlázku, že sice dvakrát někdo podal žádost o svěšení vlajek z budovy ALE při sedmi hlasech to opětovně neprošlo. Zjistil jsem že jeden je spolužák mé dcery- nyní ředitel ZŠ další je soused na chalupě, a další dva znám profesně a TĚCH SE BUDU PTÁT OSOBĚ. Víte když jsem mluvil z redaktorkou  časopisu zpravodaj a ptal jsem se jí zda pracuje i ve svátek a když se nechápavě dívala, řekl jsem jí že vlajky se zpravidla vyvěšují ve státní svátek odpověděla mi že vlajka tam visí protože umřel významný občan - smuteční řečník (myslela zjevně černou vlajku, která tam mimochodem už nevisela).Došlo mi, že vůbec neví která bije. Ona každý med chodí do budovy a vůbec ji nepřijde divné že rok tam vlají vlaky bez zjevného důvodu Na závěr CIZÍ vlajky  se na státní budovy nesmí věšet bez NAŠÍ. To je ta na Muzeu</div>
LOCATION:Královéhradecký kraj
END:VEVENT
END:VCALENDAR