BEGIN:VCALENDAR
VERSION:2.0
BEGIN:VEVENT
URL:https://1rodina.cz/index.php/sit-1rodina/udalosti/viewevent/140-konec 
DTSTART:20240529T000000
DTEND:20240601T001500
SUMMARY:KONEC
DESCRIPTION:Zajímavé je, že všichni ti paraziti křižáci, napoleon, hitler i takzvaní spojenci  VŽDY UTÍKAJÍ STEJNÝM SMĚREM. MEDVĚD SE OOKLEPAL V VYHÁNÍ PARAZITY Z KOŽICHU. Husiti za nimi ještě křičeli BĚŽÍ, BĚŽÍ. Tak to jen takový postřeh
LOCATION:SVĚT
END:VEVENT
END:VCALENDAR