BEGIN:VCALENDAR
VERSION:2.0
BEGIN:VEVENT
URL:https://1rodina.cz/index.php/sit-1rodina/udalosti/viewevent/141-fetuji-na-zachode 
DTSTART:20240529T000000
DTEND:20240601T001500
SUMMARY:FETUJÍ NA ZÁCHODĚ
DESCRIPTION:Přátelé oni jako krysy fatují na záchodě. Ochranka to zjistila před časem a provalilo se to " posléze" . Tajili. tajili a neutajili. Co je v tom institutu učili?
LOCATION:Praha
END:VEVENT
END:VCALENDAR