BEGIN:VCALENDAR
VERSION:2.0
BEGIN:VEVENT
URL:https://1rodina.cz/index.php/sit-1rodina/udalosti/viewevent/142-robert-fico-uz-prijima-potravu 
DTSTART:20240530T000000
DTEND:20240601T001500
SUMMARY:ROBERT FICO UŽ PŘIJÍMÁ POTRAVU 
DESCRIPTION:Přátelé u premiéra Fica údajně stáli všichni svatí, začíná rekonvalescenci a doktoři dle vlády udělali zázrak. Tak to je.
LOCATION:Slovensko
END:VEVENT
END:VCALENDAR