BEGIN:VCALENDAR
VERSION:2.0
BEGIN:VEVENT
URL:https://1rodina.cz/index.php/sit-1rodina/udalosti/viewevent/143-kdo-to-vi-odpovi-mi-na-otazku-kde-bude-z-akce-prenos 
DTSTART:20240530T000000
DTEND:20240601T001500
SUMMARY:KDO TO VÍ ODPOVÍ MI NA OTÁZKU KDE BUDE z AKCE PŘENOS
DESCRIPTION:Pojedu až v sobotu a dnešek a zítřek chci sledovat a začínám pátrat kdo z akce bude vysílat přenos. 
LOCATION:Praha
END:VEVENT
END:VCALENDAR