BEGIN:VCALENDAR
VERSION:2.0
BEGIN:VEVENT
URL:https://1rodina.cz/index.php/sit-1rodina/udalosti/viewevent/144-robert-fico-v-domaci-peci 
DTSTART:20240531T000000
DTEND:20240630T001500
SUMMARY:ROBERT FICO V DOMÁCÍ PÉČI 
DESCRIPTION:Přátelé Robert Fico je z nemocnice v domácí péči
LOCATION:SVĚT
END:VEVENT
END:VCALENDAR