BEGIN:VCALENDAR
VERSION:2.0
BEGIN:VEVENT
URL:https://1rodina.cz/index.php/sit-1rodina/udalosti/viewevent/145-leje-a-leje 
DTSTART:20240602T000000
DTEND:20240603T000000
SUMMARY:LEJE A LEJE
DESCRIPTION:Když ro pozoruju včera 1.6.2024 to byl jen takovej lehkej májovej deštík
LOCATION:Česká republika
END:VEVENT
END:VCALENDAR