BEGIN:VCALENDAR
VERSION:2.0
BEGIN:VEVENT
URL:https://1rodina.cz/index.php/sit-1rodina/udalosti/viewevent/146-signal-k-velkemu-zlomu 
DTSTART:20240603T000000
DTEND:20241031T001500
SUMMARY:SIGNÁL K VELKÉMU ZLOMU
DESCRIPTION:Bosí nomádi dvakrát trefili vlajkovou loď a 9.6.2024 končí smlouva o prodeji ropy za takzvané dolary. Potupně poplují do přístavu a prestiž je TA TAM . Mohlo by se nad tím mávnout rukou a může to stejně dobře být BOD ZLOMU.
LOCATION:SVĚT
END:VEVENT
END:VCALENDAR