BEGIN:VCALENDAR
VERSION:2.0
BEGIN:VEVENT
URL:https://1rodina.cz/index.php/sit-1rodina/udalosti/viewevent/147-druha-strana-mince-cesky-korunovacni-kriz-a-mec 
DTSTART:20240603T000000
DTEND:20241231T001500
SUMMARY:DRUHÁ STRANA MINCE - ČESKÝ KORUNOVAČNÍ KŘÍŽ A MEČ
DESCRIPTION:Přátelé Putování českých artefaktů může mít úplně opačný efekt než zamýšleli ti černoprdelníci.  Klenoty ve kterých je obsažena energie našich předků  SE NAOPAK ŠÍŘÍ SVĚTEM a nelze je přeprogramovat. Jsou to blbečkové, kteří netuší jak fungují vesmírné zákony a jenom si slepě čtou z upravené knížky. 
LOCATION:SVĚT
END:VEVENT
END:VCALENDAR